BEGIN:VCALENDAR
VERSION:2.0
PRODID:-//Contratero//ES
CALSCALE:GREGORIAN
METHOD:PUBLISH
BEGIN:VEVENT
UID:053/20-SUM-HAC (Contratación)@contratero.es
DTSTAMP:20260424T123310Z
DTSTART:20210225T235959
DTEND:20210226T005959
SUMMARY:Cierre: Contratación del suministro e implantación de una 
DESCRIPTION:Contratación del suministro e implantación de una solución completa modular de administración electrónica.\\n\\nOrganismo: Junta de Gobierno del Ayuntamiento de Burgos\\n\\nVer en Contratero: https://contratero.es/contracts/053/20-SUM-HAC (Contratación)
URL:https://contratero.es/contracts/053/20-SUM-HAC (Contratación)
STATUS:CONFIRMED
BEGIN:VALARM
TRIGGER:-P1D
ACTION:DISPLAY
DESCRIPTION:Recordatorio: Contratación del suministro e 
END:VALARM
END:VEVENT
END:VCALENDAR